BEGIN:VCALENDAR
VERSION:2.0
PRODID:-//Ringwood Public Library - ECPv6.15.20//NONSGML v1.0//EN
CALSCALE:GREGORIAN
METHOD:PUBLISH
X-WR-CALNAME:Ringwood Public Library
X-ORIGINAL-URL:https://www.ringwoodlibrary.org
X-WR-CALDESC:Events for Ringwood Public Library
REFRESH-INTERVAL;VALUE=DURATION:PT1H
X-Robots-Tag:noindex
X-PUBLISHED-TTL:PT1H
BEGIN:VTIMEZONE
TZID:America/New_York
BEGIN:DAYLIGHT
TZOFFSETFROM:-0500
TZOFFSETTO:-0400
TZNAME:EDT
DTSTART:20250309T070000
END:DAYLIGHT
BEGIN:STANDARD
TZOFFSETFROM:-0400
TZOFFSETTO:-0500
TZNAME:EST
DTSTART:20251102T060000
END:STANDARD
BEGIN:DAYLIGHT
TZOFFSETFROM:-0500
TZOFFSETTO:-0400
TZNAME:EDT
DTSTART:20260308T070000
END:DAYLIGHT
BEGIN:STANDARD
TZOFFSETFROM:-0400
TZOFFSETTO:-0500
TZNAME:EST
DTSTART:20261101T060000
END:STANDARD
BEGIN:DAYLIGHT
TZOFFSETFROM:-0500
TZOFFSETTO:-0400
TZNAME:EDT
DTSTART:20270314T070000
END:DAYLIGHT
BEGIN:STANDARD
TZOFFSETFROM:-0400
TZOFFSETTO:-0500
TZNAME:EST
DTSTART:20271107T060000
END:STANDARD
END:VTIMEZONE
BEGIN:VEVENT
DTSTART;TZID=America/New_York:20260428T183000
DTEND;TZID=America/New_York:20260428T193000
DTSTAMP:20260421T195734
CREATED:20251107T192445Z
LAST-MODIFIED:20251230T195601Z
UID:10002156-1777401000-1777404600@www.ringwoodlibrary.org
SUMMARY:Writing for Publication
DESCRIPTION:This group is open to anyone who has been published or is looking to publish prose\, fiction\, or nonfiction; and is willing to participate in critiquing and discussing the business of publishing. The Write for Publication group meets every 2nd and 4th Tuesday of the month! No registration required!
URL:https://www.ringwoodlibrary.org/event/writing-for-publication-2/2026-04-28/
END:VEVENT
BEGIN:VEVENT
DTSTART;TZID=America/New_York:20260526T183000
DTEND;TZID=America/New_York:20260526T193000
DTSTAMP:20260421T195734
CREATED:20251107T192445Z
LAST-MODIFIED:20251230T195601Z
UID:10002157-1779820200-1779823800@www.ringwoodlibrary.org
SUMMARY:Writing for Publication
DESCRIPTION:This group is open to anyone who has been published or is looking to publish prose\, fiction\, or nonfiction; and is willing to participate in critiquing and discussing the business of publishing. The Write for Publication group meets every 2nd and 4th Tuesday of the month! No registration required!
URL:https://www.ringwoodlibrary.org/event/writing-for-publication-2/2026-05-26/
END:VEVENT
BEGIN:VEVENT
DTSTART;TZID=America/New_York:20260623T183000
DTEND;TZID=America/New_York:20260623T193000
DTSTAMP:20260421T195734
CREATED:20251107T192445Z
LAST-MODIFIED:20251230T195601Z
UID:10002158-1782239400-1782243000@www.ringwoodlibrary.org
SUMMARY:Writing for Publication
DESCRIPTION:This group is open to anyone who has been published or is looking to publish prose\, fiction\, or nonfiction; and is willing to participate in critiquing and discussing the business of publishing. The Write for Publication group meets every 2nd and 4th Tuesday of the month! No registration required!
URL:https://www.ringwoodlibrary.org/event/writing-for-publication-2/2026-06-23/
END:VEVENT
BEGIN:VEVENT
DTSTART;TZID=America/New_York:20260728T183000
DTEND;TZID=America/New_York:20260728T193000
DTSTAMP:20260421T195734
CREATED:20251107T192445Z
LAST-MODIFIED:20251230T195601Z
UID:10002159-1785263400-1785267000@www.ringwoodlibrary.org
SUMMARY:Writing for Publication
DESCRIPTION:This group is open to anyone who has been published or is looking to publish prose\, fiction\, or nonfiction; and is willing to participate in critiquing and discussing the business of publishing. The Write for Publication group meets every 2nd and 4th Tuesday of the month! No registration required!
URL:https://www.ringwoodlibrary.org/event/writing-for-publication-2/2026-07-28/
END:VEVENT
BEGIN:VEVENT
DTSTART;TZID=America/New_York:20260825T183000
DTEND;TZID=America/New_York:20260825T193000
DTSTAMP:20260421T195734
CREATED:20251107T192445Z
LAST-MODIFIED:20251230T195601Z
UID:10002160-1787682600-1787686200@www.ringwoodlibrary.org
SUMMARY:Writing for Publication
DESCRIPTION:This group is open to anyone who has been published or is looking to publish prose\, fiction\, or nonfiction; and is willing to participate in critiquing and discussing the business of publishing. The Write for Publication group meets every 2nd and 4th Tuesday of the month! No registration required!
URL:https://www.ringwoodlibrary.org/event/writing-for-publication-2/2026-08-25/
END:VEVENT
BEGIN:VEVENT
DTSTART;TZID=America/New_York:20260922T183000
DTEND;TZID=America/New_York:20260922T193000
DTSTAMP:20260421T195734
CREATED:20251107T192445Z
LAST-MODIFIED:20251230T195601Z
UID:10002161-1790101800-1790105400@www.ringwoodlibrary.org
SUMMARY:Writing for Publication
DESCRIPTION:This group is open to anyone who has been published or is looking to publish prose\, fiction\, or nonfiction; and is willing to participate in critiquing and discussing the business of publishing. The Write for Publication group meets every 2nd and 4th Tuesday of the month! No registration required!
URL:https://www.ringwoodlibrary.org/event/writing-for-publication-2/2026-09-22/
END:VEVENT
BEGIN:VEVENT
DTSTART;TZID=America/New_York:20261027T183000
DTEND;TZID=America/New_York:20261027T193000
DTSTAMP:20260421T195734
CREATED:20251107T192445Z
LAST-MODIFIED:20251230T195601Z
UID:10002162-1793125800-1793129400@www.ringwoodlibrary.org
SUMMARY:Writing for Publication
DESCRIPTION:This group is open to anyone who has been published or is looking to publish prose\, fiction\, or nonfiction; and is willing to participate in critiquing and discussing the business of publishing. The Write for Publication group meets every 2nd and 4th Tuesday of the month! No registration required!
URL:https://www.ringwoodlibrary.org/event/writing-for-publication-2/2026-10-27/
END:VEVENT
END:VCALENDAR