BEGIN:VCALENDAR
VERSION:2.0
PRODID:-//Ringwood Public Library - ECPv6.15.20//NONSGML v1.0//EN
CALSCALE:GREGORIAN
METHOD:PUBLISH
X-ORIGINAL-URL:https://www.ringwoodlibrary.org
X-WR-CALDESC:Events for Ringwood Public Library
REFRESH-INTERVAL;VALUE=DURATION:PT1H
X-Robots-Tag:noindex
X-PUBLISHED-TTL:PT1H
BEGIN:VTIMEZONE
TZID:America/New_York
BEGIN:DAYLIGHT
TZOFFSETFROM:-0500
TZOFFSETTO:-0400
TZNAME:EDT
DTSTART:20250309T070000
END:DAYLIGHT
BEGIN:STANDARD
TZOFFSETFROM:-0400
TZOFFSETTO:-0500
TZNAME:EST
DTSTART:20251102T060000
END:STANDARD
BEGIN:DAYLIGHT
TZOFFSETFROM:-0500
TZOFFSETTO:-0400
TZNAME:EDT
DTSTART:20260308T070000
END:DAYLIGHT
BEGIN:STANDARD
TZOFFSETFROM:-0400
TZOFFSETTO:-0500
TZNAME:EST
DTSTART:20261101T060000
END:STANDARD
BEGIN:DAYLIGHT
TZOFFSETFROM:-0500
TZOFFSETTO:-0400
TZNAME:EDT
DTSTART:20270314T070000
END:DAYLIGHT
BEGIN:STANDARD
TZOFFSETFROM:-0400
TZOFFSETTO:-0500
TZNAME:EST
DTSTART:20271107T060000
END:STANDARD
END:VTIMEZONE
BEGIN:VEVENT
DTSTART;TZID=America/New_York:20260421T170000
DTEND;TZID=America/New_York:20260421T183000
DTSTAMP:20260421T183907
CREATED:20251107T184344Z
LAST-MODIFIED:20251107T184346Z
UID:10001653-1776790800-1776796200@www.ringwoodlibrary.org
SUMMARY:Hablemos Amigos (Spanish Group)
DESCRIPTION:
URL:https://www.ringwoodlibrary.org/event/hablemos-amigos-spanish-group/2026-04-21/
LOCATION:New Jersey
END:VEVENT
BEGIN:VEVENT
DTSTART;TZID=America/New_York:20260422T130000
DTEND;TZID=America/New_York:20260422T150000
DTSTAMP:20260421T183907
CREATED:20260125T220436Z
LAST-MODIFIED:20260125T220439Z
UID:10002306-1776862800-1776870000@www.ringwoodlibrary.org
SUMMARY:Mah Jong
DESCRIPTION:Learn and play Mah Jong! All supplies are provided\, no registration required!
URL:https://www.ringwoodlibrary.org/event/mah-jong-6/2026-04-22/
LOCATION:New Jersey
END:VEVENT
BEGIN:VEVENT
DTSTART;TZID=America/New_York:20260422T140000
DTEND;TZID=America/New_York:20260422T160000
DTSTAMP:20260421T183907
CREATED:20251107T183548Z
LAST-MODIFIED:20260123T192022Z
UID:10001613-1776866400-1776873600@www.ringwoodlibrary.org
SUMMARY:Fiber Arts
DESCRIPTION:Grab your needles and pins\, all fiber artists are invited to the weekly Fiber Arts Group meetup! Sewing\, embroidery\, felting\, crocheting\, knitting\, and weaving. All textile projects welcome! Bring your own materials and get to know your fellow fiber artists\, as all levels of ability are welcome! No registration necessary.
URL:https://www.ringwoodlibrary.org/event/fiber-arts/2026-04-22/
LOCATION:Ringwood Public Library\, 30 Cannici Drive\, Ringwood\, New Jersey\, 07456\, United States
END:VEVENT
BEGIN:VEVENT
DTSTART;TZID=America/New_York:20260422T180000
DTEND;TZID=America/New_York:20260422T200000
DTSTAMP:20260421T183907
CREATED:20251215T162252Z
LAST-MODIFIED:20260416T132118Z
UID:10002013-1776880800-1776888000@www.ringwoodlibrary.org
SUMMARY:Acts of Science: Animal Cams!
DESCRIPTION:For Earth Day\, learn how to help scientists identify animals “trapped” in photos from cameras placed in the wild. In this livestreamed event\, we’ll meet the scientists working with the data collected from the cameras and have time for some hands-on practice!  \n\n\n\nThe Wisconsin Department of Natural Resources runs Snapshot Wisconsin\, a community science program that monitors wildlife across the state using a network of trail cameras. These cameras capture images when triggered by the heat and movement of animals\, helping researchers track wildlife activity. Wisconsin contains many ecosystems—from forests to prairies—and supports dozens of mammal species along with hundreds of other vertebrates and thousands of plants and invertebrates. The project encourages public participation and provides resources for volunteers\, educators\, and community members to help study and protect wildlife. \n\n\n\nEach participant in this program contributes to SciStarter’s goals of 2.5 Million Acts of Science in April! SciStarter.org is a hub of citizen science projects that allow for crowd-sourced research to help researchers gather and analyze data more quickly. There will be other giveaways and a prize for the most Acts of Science accomplished! Funding for this program is provided by an Acts of Science: Connected Event Support Grant from SciStarter. \n\n\n\nThis is part of our America 250! series. Participants will be entered into our America 250 raffle.  \n\n\n\nFor Adults\, Teens\, and ages 12 and under with participating adult. Perfect for a family celebrating Earth Day together! \n\n\n\nMust register before noon on April 22. Please call to cancel if you sign up and cannot attend. \n\n\n\n\n\n	Notice: JavaScript is required for this content.
URL:https://www.ringwoodlibrary.org/event/acts-of-science-animal-cams/
LOCATION:Ringwood Public Library\, 30 Cannici Drive\, Ringwood\, New Jersey\, 07456\, United States
ORGANIZER;CN="Heather Caldwell":MAILTO:caldwell@ringwoodlibrary.org
END:VEVENT
BEGIN:VEVENT
DTSTART;TZID=America/New_York:20260423T110000
DTEND;TZID=America/New_York:20260423T120000
DTSTAMP:20260421T183907
CREATED:20251219T202504Z
LAST-MODIFIED:20260309T204634Z
UID:10002405-1776942000-1776945600@www.ringwoodlibrary.org
SUMMARY:Book Buddies Storytime
DESCRIPTION:Join us every week as we read\, sing\, craft and more! Best for ages 3-6 years. No registration required.
URL:https://www.ringwoodlibrary.org/event/book-buddies-storytime-12/2026-04-23/
LOCATION:Ringwood Public Library\, 30 Cannici Drive\, Ringwood\, New Jersey\, 07456\, United States
ORGANIZER;CN="Jaclyn Fudge":MAILTO:fudge@ringwoodlibrary.org
END:VEVENT
BEGIN:VEVENT
DTSTART;TZID=America/New_York:20260423T160000
DTEND;TZID=America/New_York:20260423T180000
DTSTAMP:20260421T183907
CREATED:20260420T195731Z
LAST-MODIFIED:20260420T195734Z
UID:10002451-1776960000-1776967200@www.ringwoodlibrary.org
SUMMARY:Dungeons and Dragons
DESCRIPTION:Ages 10-18 \n\n\n\nCalling all adventurers! Immerse yourself in the world of Dungeons and Dragons. \n\n\n\nBeginners welcome!
URL:https://www.ringwoodlibrary.org/event/dungeons-and-dragons/
LOCATION:Ringwood Public Library\, 30 Cannici Drive\, Ringwood\, New Jersey\, 07456\, United States
ORGANIZER;CN="Hailey Terracino":MAILTO:terracino@ringwoodlibrary.org
END:VEVENT
BEGIN:VEVENT
DTSTART;TZID=America/New_York:20260424T101500
DTEND;TZID=America/New_York:20260424T111500
DTSTAMP:20260421T183907
CREATED:20251219T202721Z
LAST-MODIFIED:20260309T204740Z
UID:10002418-1777025700-1777029300@www.ringwoodlibrary.org
SUMMARY:Toddler Happy Hour Storytime
DESCRIPTION:Best for ages 0-3 years. Stories\, songs\, and more! No registration necessary.
URL:https://www.ringwoodlibrary.org/event/toddler-happy-hour-storytime-8/2026-04-24/
LOCATION:Ringwood Public Library\, 30 Cannici Drive\, Ringwood\, New Jersey\, 07456\, United States
END:VEVENT
BEGIN:VEVENT
DTSTART;TZID=America/New_York:20260424T133000
DTEND;TZID=America/New_York:20260424T160000
DTSTAMP:20260421T183907
CREATED:20260217T202549Z
LAST-MODIFIED:20260217T202552Z
UID:10002380-1777037400-1777046400@www.ringwoodlibrary.org
SUMMARY:Film Friday
DESCRIPTION:Join us monthly for a showing of a newly released movie or a special thematic viewing.  \n\n\n\nThis month: Hamnet
URL:https://www.ringwoodlibrary.org/event/film-friday-5/
LOCATION:Ringwood Public Library\, 30 Cannici Drive\, Ringwood\, New Jersey\, 07456\, United States
ORGANIZER;CN="MaryEllen D&#8217%3BElia":MAILTO:delia@ringwoodlibrary.org
END:VEVENT
BEGIN:VEVENT
DTSTART;TZID=America/New_York:20260424T160000
DTEND;TZID=America/New_York:20260424T170000
DTSTAMP:20260421T183907
CREATED:20251121T195759Z
LAST-MODIFIED:20251121T195802Z
UID:10001991-1777046400-1777050000@www.ringwoodlibrary.org
SUMMARY:Y.A. Theatre Club
DESCRIPTION:Ages 12-18 \n\n\n\nCome learn and create all things theatre! From scripts to performances\, we cover it all.
URL:https://www.ringwoodlibrary.org/event/y-a-theatre-club-2/2026-04-24/
LOCATION:Ringwood Public Library\, 30 Cannici Drive\, Ringwood\, New Jersey\, 07456\, United States
END:VEVENT
BEGIN:VEVENT
DTSTART;TZID=America/New_York:20260425T130000
DTEND;TZID=America/New_York:20260425T140000
DTSTAMP:20260421T183907
CREATED:20251027T143748Z
LAST-MODIFIED:20251229T212125Z
UID:10001388-1777122000-1777125600@www.ringwoodlibrary.org
SUMMARY:Youth Advisory Board (Y.A.B)
DESCRIPTION:Young Adults and Teens ages 12-18 \n\n\n\nThe mission of the Youth Advisory Board (Y.A.B.) is to strengthen the bridge between the young adult community and the library\, to encourage participation and to share the diverse ideas\, interests and voices of teens. It can also count towards volunteer hours.
URL:https://www.ringwoodlibrary.org/event/youth-advisory-board-y-a-b-2/2026-04-25/
LOCATION:Ringwood Public Library\, 30 Cannici Drive\, Ringwood\, New Jersey\, 07456\, United States
ORGANIZER;CN="Hailey Terracino":MAILTO:terracino@ringwoodlibrary.org
END:VEVENT
BEGIN:VEVENT
DTSTART;TZID=America/New_York:20260427T110000
DTEND;TZID=America/New_York:20260427T120000
DTSTAMP:20260421T183907
CREATED:20251107T184434Z
LAST-MODIFIED:20251229T210826Z
UID:10001588-1777287600-1777291200@www.ringwoodlibrary.org
SUMMARY:Writing From the Heart
DESCRIPTION:Adult. Small writing group focused on self-expression.
URL:https://www.ringwoodlibrary.org/event/writing-from-the-heart-7/2026-04-27/
LOCATION:Ringwood Public Library\, 30 Cannici Drive\, Ringwood\, New Jersey\, 07456\, United States
END:VEVENT
BEGIN:VEVENT
DTSTART;TZID=America/New_York:20260427T163000
DTEND;TZID=America/New_York:20260427T180000
DTSTAMP:20260421T183907
CREATED:20251107T184251Z
LAST-MODIFIED:20260106T200318Z
UID:10001430-1777307400-1777312800@www.ringwoodlibrary.org
SUMMARY:French Group
DESCRIPTION:French language conversation club\, Parlez-vous Francais. Meets every Monday at 4:30 PM. Meet local French language and culture lovers for conversation and fun!
URL:https://www.ringwoodlibrary.org/event/french-group/2026-04-27/
LOCATION:Ringwood Public Library\, 30 Cannici Drive\, Ringwood\, New Jersey\, 07456\, United States
END:VEVENT
BEGIN:VEVENT
DTSTART;TZID=America/New_York:20260428T170000
DTEND;TZID=America/New_York:20260428T183000
DTSTAMP:20260421T183907
CREATED:20251107T184344Z
LAST-MODIFIED:20251107T184346Z
UID:10001655-1777395600-1777401000@www.ringwoodlibrary.org
SUMMARY:Hablemos Amigos (Spanish Group)
DESCRIPTION:
URL:https://www.ringwoodlibrary.org/event/hablemos-amigos-spanish-group/2026-04-28/
LOCATION:New Jersey
END:VEVENT
BEGIN:VEVENT
DTSTART;TZID=America/New_York:20260428T183000
DTEND;TZID=America/New_York:20260428T193000
DTSTAMP:20260421T183907
CREATED:20251107T192445Z
LAST-MODIFIED:20251230T195601Z
UID:10002156-1777401000-1777404600@www.ringwoodlibrary.org
SUMMARY:Writing for Publication
DESCRIPTION:This group is open to anyone who has been published or is looking to publish prose\, fiction\, or nonfiction; and is willing to participate in critiquing and discussing the business of publishing. The Write for Publication group meets every 2nd and 4th Tuesday of the month! No registration required!
URL:https://www.ringwoodlibrary.org/event/writing-for-publication-2/2026-04-28/
LOCATION:New Jersey
END:VEVENT
BEGIN:VEVENT
DTSTART;TZID=America/New_York:20260428T184500
DTEND;TZID=America/New_York:20260428T200000
DTSTAMP:20260421T183907
CREATED:20251219T203102Z
LAST-MODIFIED:20260309T204831Z
UID:10002428-1777401900-1777406400@www.ringwoodlibrary.org
SUMMARY:Read to Winky\, Ben & Tiger!
DESCRIPTION:Winky\, Ben & Tiger are certified therapy dogs who love to sit with and listen to emerging readers read to them! Best for ages 6 & up. Registration is requested. Please contact Mrs. Fudge to register.
URL:https://www.ringwoodlibrary.org/event/read-to-winky-ben-tiger-2/2026-04-28/
LOCATION:Ringwood Public Library\, 30 Cannici Drive\, Ringwood\, New Jersey\, 07456\, United States
ORGANIZER;CN="Jaclyn Fudge":MAILTO:fudge@ringwoodlibrary.org
END:VEVENT
BEGIN:VEVENT
DTSTART;TZID=America/New_York:20260429T130000
DTEND;TZID=America/New_York:20260429T150000
DTSTAMP:20260421T183907
CREATED:20260125T220436Z
LAST-MODIFIED:20260125T220439Z
UID:10002307-1777467600-1777474800@www.ringwoodlibrary.org
SUMMARY:Mah Jong
DESCRIPTION:Learn and play Mah Jong! All supplies are provided\, no registration required!
URL:https://www.ringwoodlibrary.org/event/mah-jong-6/2026-04-29/
LOCATION:New Jersey
END:VEVENT
BEGIN:VEVENT
DTSTART;TZID=America/New_York:20260429T140000
DTEND;TZID=America/New_York:20260429T160000
DTSTAMP:20260421T183907
CREATED:20251107T183548Z
LAST-MODIFIED:20260123T192022Z
UID:10001614-1777471200-1777478400@www.ringwoodlibrary.org
SUMMARY:Fiber Arts
DESCRIPTION:Grab your needles and pins\, all fiber artists are invited to the weekly Fiber Arts Group meetup! Sewing\, embroidery\, felting\, crocheting\, knitting\, and weaving. All textile projects welcome! Bring your own materials and get to know your fellow fiber artists\, as all levels of ability are welcome! No registration necessary.
URL:https://www.ringwoodlibrary.org/event/fiber-arts/2026-04-29/
LOCATION:Ringwood Public Library\, 30 Cannici Drive\, Ringwood\, New Jersey\, 07456\, United States
END:VEVENT
BEGIN:VEVENT
DTSTART;TZID=America/New_York:20260430T110000
DTEND;TZID=America/New_York:20260430T120000
DTSTAMP:20260421T183907
CREATED:20251219T202504Z
LAST-MODIFIED:20260309T204634Z
UID:10002406-1777546800-1777550400@www.ringwoodlibrary.org
SUMMARY:Book Buddies Storytime
DESCRIPTION:Join us every week as we read\, sing\, craft and more! Best for ages 3-6 years. No registration required.
URL:https://www.ringwoodlibrary.org/event/book-buddies-storytime-12/2026-04-30/
LOCATION:Ringwood Public Library\, 30 Cannici Drive\, Ringwood\, New Jersey\, 07456\, United States
ORGANIZER;CN="Jaclyn Fudge":MAILTO:fudge@ringwoodlibrary.org
END:VEVENT
BEGIN:VEVENT
DTSTART;TZID=America/New_York:20260430T163000
DTEND;TZID=America/New_York:20260430T173000
DTSTAMP:20260421T183907
CREATED:20260320T184527Z
LAST-MODIFIED:20260320T185026Z
UID:10002444-1777566600-1777570200@www.ringwoodlibrary.org
SUMMARY:Chapters the Book Club
DESCRIPTION:A monthly meet up where we’ll discuss last months’ book and then start a new chapter book together! Then you can check-out your own copy to finish at home. \n\n\n\nBest for ages 8 & up. \n\n\n\nNo registration necessary.
URL:https://www.ringwoodlibrary.org/event/chapters-the-book-club/
LOCATION:Ringwood Public Library\, 30 Cannici Drive\, Ringwood\, New Jersey\, 07456\, United States
ORGANIZER;CN="Jaclyn Fudge":MAILTO:fudge@ringwoodlibrary.org
END:VEVENT
BEGIN:VEVENT
DTSTART;TZID=America/New_York:20260430T180000
DTEND;TZID=America/New_York:20260430T190000
DTSTAMP:20260421T183907
CREATED:20260320T184952Z
LAST-MODIFIED:20260320T184953Z
UID:10002445-1777572000-1777575600@www.ringwoodlibrary.org
SUMMARY:Ice Cream Party with Trooper!
DESCRIPTION:Join us for an ice cream storytime with Certified Service Dog\, Trooper! We will have stories\, activities and of course ice cream! \n\n\n\nAll ages welcome. No registration necessary. \n\n\n\nIce cream is first come\, first serve.
URL:https://www.ringwoodlibrary.org/event/ice-cream-party-with-trooper/
LOCATION:Ringwood Public Library\, 30 Cannici Drive\, Ringwood\, New Jersey\, 07456\, United States
ORGANIZER;CN="Jaclyn Fudge":MAILTO:fudge@ringwoodlibrary.org
END:VEVENT
END:VCALENDAR